Package: PPInfer Version: 1.36.0 Command: /Library/Frameworks/R.framework/Resources/bin/R CMD INSTALL PPInfer StartedAt: 2025-11-03 15:33:53 -0500 (Mon, 03 Nov 2025) EndedAt: 2025-11-03 15:34:24 -0500 (Mon, 03 Nov 2025) EllapsedTime: 31.0 seconds RetCode: 0 Status: OK