Package: PPInfer Version: 1.36.0 Command: /Library/Frameworks/R.framework/Resources/bin/R CMD build --keep-empty-dirs --no-resave-data PPInfer StartedAt: 2025-11-03 18:17:00 -0500 (Mon, 03 Nov 2025) EndedAt: 2025-11-03 18:19:33 -0500 (Mon, 03 Nov 2025) EllapsedTime: 152.8 seconds RetCode: 0 Status: OK PackageFile: PPInfer_1.36.0.tar.gz PackageFileSize: 324.4 KiB