Package: PPInfer Version: 1.34.0 Command: /home/biocbuild/R/R/bin/R CMD INSTALL PPInfer StartedAt: 2025-10-13 20:46:38 -0000 (Mon, 13 Oct 2025) EndedAt: 2025-10-13 20:47:12 -0000 (Mon, 13 Oct 2025) EllapsedTime: 33.8 seconds RetCode: 0 Status: OK