Package: PPInfer Version: 1.34.0 Command: /home/biocbuild/R/R/bin/R CMD build --keep-empty-dirs --no-resave-data PPInfer StartedAt: 2025-10-14 03:37:06 -0000 (Tue, 14 Oct 2025) EndedAt: 2025-10-14 03:38:15 -0000 (Tue, 14 Oct 2025) EllapsedTime: 69.0 seconds RetCode: 0 Status: OK PackageFile: PPInfer_1.34.0.tar.gz PackageFileSize: 315.6 KiB