Package: POWSC Version: 1.18.0 Command: /home/biocbuild/bbs-3.22-bioc/R/bin/R CMD check --install=check:POWSC.install-out.txt --library=/home/biocbuild/bbs-3.22-bioc/R/site-library --timings POWSC_1.18.0.tar.gz StartedAt: 2025-11-15 03:06:49 -0500 (Sat, 15 Nov 2025) EndedAt: 2025-11-15 03:12:00 -0500 (Sat, 15 Nov 2025) EllapsedTime: 310.3 seconds RetCode: 0 Status: OK CheckDir: POWSC.Rcheck Warnings: 0