Package: POWSC Version: 1.18.0 Command: /Library/Frameworks/R.framework/Resources/bin/R CMD INSTALL POWSC StartedAt: 2025-10-31 15:31:04 -0400 (Fri, 31 Oct 2025) EndedAt: 2025-10-31 15:31:43 -0400 (Fri, 31 Oct 2025) EllapsedTime: 38.1 seconds RetCode: 0 Status: OK