Package: POWSC Version: 1.18.0 Command: /Library/Frameworks/R.framework/Resources/bin/R CMD build --keep-empty-dirs --no-resave-data POWSC StartedAt: 2025-10-31 18:20:02 -0400 (Fri, 31 Oct 2025) EndedAt: 2025-10-31 18:21:28 -0400 (Fri, 31 Oct 2025) EllapsedTime: 85.7 seconds RetCode: 0 Status: OK PackageFile: POWSC_1.18.0.tar.gz PackageFileSize: 1.141 MiB