Package: POWSC Version: 1.18.0 Command: rm -rf POWSC.buildbin-libdir && mkdir POWSC.buildbin-libdir && /Users/biocbuild/BBS/utils/build-universal.sh POWSC_1.18.0.tar.gz /Library/Frameworks/R.framework/Resources/bin/R POWSC.buildbin-libdir StartedAt: 2025-11-01 01:50:04 -0400 (Sat, 01 Nov 2025) EndedAt: 2025-11-01 01:50:45 -0400 (Sat, 01 Nov 2025) EllapsedTime: 40.6 seconds RetCode: 0 Status: OK PackageFile: POWSC_1.18.0.tgz PackageFileSize: 1.36 MiB