Package: POWSC Version: 1.16.0 Command: /home/biocbuild/R/R/bin/R CMD INSTALL POWSC StartedAt: 2025-10-06 20:34:07 -0000 (Mon, 06 Oct 2025) EndedAt: 2025-10-06 20:34:46 -0000 (Mon, 06 Oct 2025) EllapsedTime: 39.1 seconds RetCode: 0 Status: OK