Package: POWSC Version: 1.16.0 Command: /home/biocbuild/R/R/bin/R CMD build --keep-empty-dirs --no-resave-data POWSC StartedAt: 2025-10-07 03:39:10 -0000 (Tue, 07 Oct 2025) EndedAt: 2025-10-07 03:41:13 -0000 (Tue, 07 Oct 2025) EllapsedTime: 122.0 seconds RetCode: 0 Status: OK PackageFile: POWSC_1.16.0.tar.gz PackageFileSize: 1.194 MiB