Package: POMA Version: 1.18.0 Command: /home/biocbuild/R/R/bin/R CMD build --keep-empty-dirs --no-resave-data POMA StartedAt: 2025-10-14 03:36:19 -0000 (Tue, 14 Oct 2025) EndedAt: 2025-10-14 03:37:15 -0000 (Tue, 14 Oct 2025) EllapsedTime: 56.0 seconds RetCode: 0 Status: OK PackageFile: POMA_1.18.0.tar.gz PackageFileSize: 2.102 MiB