Package: PMScanR Version: 1.0.0 Command: /home/biocbuild/R/R/bin/R CMD INSTALL PMScanR StartedAt: 2025-11-10 21:41:07 -0000 (Mon, 10 Nov 2025) EndedAt: 2025-11-10 21:41:56 -0000 (Mon, 10 Nov 2025) EllapsedTime: 48.7 seconds RetCode: 0 Status: OK