Package: PMScanR Version: 1.0.0 Command: /home/biocbuild/R/R/bin/R CMD build --keep-empty-dirs --no-resave-data PMScanR StartedAt: 2025-11-11 04:09:14 -0000 (Tue, 11 Nov 2025) EndedAt: 2025-11-11 04:10:36 -0000 (Tue, 11 Nov 2025) EllapsedTime: 82.0 seconds RetCode: 0 Status: OK PackageFile: PMScanR_1.0.0.tar.gz PackageFileSize: 2.183 MiB