Package: PMScanR Version: 1.0.0 Command: /Library/Frameworks/R.framework/Resources/bin/R CMD INSTALL PMScanR StartedAt: 2025-11-10 15:18:20 -0500 (Mon, 10 Nov 2025) EndedAt: 2025-11-10 15:18:35 -0500 (Mon, 10 Nov 2025) EllapsedTime: 14.9 seconds RetCode: 0 Status: OK