Package: PMScanR Version: 1.0.0 Command: rm -rf PMScanR.buildbin-libdir && mkdir PMScanR.buildbin-libdir && /Users/biocbuild/BBS/utils/build-universal.sh PMScanR_1.0.0.tar.gz /Library/Frameworks/R.framework/Resources/bin/R PMScanR.buildbin-libdir StartedAt: 2025-11-10 23:31:20 -0500 (Mon, 10 Nov 2025) EndedAt: 2025-11-10 23:31:37 -0500 (Mon, 10 Nov 2025) EllapsedTime: 16.3 seconds RetCode: 0 Status: OK PackageFile: PMScanR_1.0.0.tgz PackageFileSize: 1.996 MiB