Package: PLSDAbatch Version: 1.6.0 Command: /home/biocbuild/bbs-3.22-bioc/R/bin/R CMD build --keep-empty-dirs --no-resave-data --md5 PLSDAbatch StartedAt: 2025-11-11 19:25:50 -0500 (Tue, 11 Nov 2025) EndedAt: 2025-11-11 19:27:09 -0500 (Tue, 11 Nov 2025) EllapsedTime: 79.1 seconds RetCode: 0 Status: OK PackageFile: PLSDAbatch_1.6.0.tar.gz PackageFileSize: 1.63 MiB