Package: PLSDAbatch Version: 1.4.0 Command: /home/biocbuild/bbs-3.21-bioc/R/bin/R CMD build --keep-empty-dirs --no-resave-data PLSDAbatch StartedAt: 2025-10-15 19:10:19 -0400 (Wed, 15 Oct 2025) EndedAt: 2025-10-15 19:11:39 -0400 (Wed, 15 Oct 2025) EllapsedTime: 80.1 seconds RetCode: 0 Status: OK PackageFile: PLSDAbatch_1.4.0.tar.gz PackageFileSize: 1.629 MiB