Package: PLSDAbatch Version: 1.6.0 Command: /Library/Frameworks/R.framework/Resources/bin/R CMD INSTALL PLSDAbatch StartedAt: 2025-10-30 15:26:16 -0400 (Thu, 30 Oct 2025) EndedAt: 2025-10-30 15:27:13 -0400 (Thu, 30 Oct 2025) EllapsedTime: 57.4 seconds RetCode: 0 Status: OK