Package: PLSDAbatch Version: 1.6.0 Command: /Library/Frameworks/R.framework/Resources/bin/R CMD build --keep-empty-dirs --no-resave-data PLSDAbatch StartedAt: 2025-10-30 00:55:35 -0400 (Thu, 30 Oct 2025) EndedAt: 2025-10-30 00:57:05 -0400 (Thu, 30 Oct 2025) EllapsedTime: 90.7 seconds RetCode: 0 Status: OK PackageFile: PLSDAbatch_1.6.0.tar.gz PackageFileSize: 1.625 MiB