Package: PLSDAbatch Version: 1.4.0 Command: /home/biocbuild/R/R/bin/R CMD INSTALL PLSDAbatch StartedAt: 2025-10-02 20:45:36 -0000 (Thu, 02 Oct 2025) EndedAt: 2025-10-02 20:46:40 -0000 (Thu, 02 Oct 2025) EllapsedTime: 63.3 seconds RetCode: 0 Status: OK