Package: PLSDAbatch Version: 1.4.0 Command: /home/biocbuild/R/R/bin/R CMD build --keep-empty-dirs --no-resave-data PLSDAbatch StartedAt: 2025-10-03 03:32:52 -0000 (Fri, 03 Oct 2025) EndedAt: 2025-10-03 03:34:41 -0000 (Fri, 03 Oct 2025) EllapsedTime: 109.0 seconds RetCode: 0 Status: OK PackageFile: PLSDAbatch_1.4.0.tar.gz PackageFileSize: 1.592 MiB