Package: PLSDAbatch Version: 1.4.0 Command: /Library/Frameworks/R.framework/Resources/bin/R CMD INSTALL PLSDAbatch StartedAt: 2025-10-13 16:51:15 -0400 (Mon, 13 Oct 2025) EndedAt: 2025-10-13 16:52:06 -0400 (Mon, 13 Oct 2025) EllapsedTime: 51.4 seconds RetCode: 0 Status: OK