Package: PLSDAbatch Version: 1.4.0 Command: rm -rf PLSDAbatch.buildbin-libdir && mkdir PLSDAbatch.buildbin-libdir && /Users/biocbuild/BBS/utils/build-universal.sh PLSDAbatch_1.4.0.tar.gz /Library/Frameworks/R.framework/Resources/bin/R PLSDAbatch.buildbin-libdir StartedAt: 2025-10-15 19:48:25 -0400 (Wed, 15 Oct 2025) EndedAt: 2025-10-15 19:49:09 -0400 (Wed, 15 Oct 2025) EllapsedTime: 44.0 seconds RetCode: 0 Status: OK PackageFile: PLSDAbatch_1.4.0.tgz PackageFileSize: 1.658 MiB