Package: PLPE Version: 1.70.0 Command: /home/biocbuild/bbs-3.22-bioc/R/bin/R CMD build --keep-empty-dirs --no-resave-data --md5 PLPE StartedAt: 2025-11-11 19:25:49 -0500 (Tue, 11 Nov 2025) EndedAt: 2025-11-11 19:25:57 -0500 (Tue, 11 Nov 2025) EllapsedTime: 8.0 seconds RetCode: 0 Status: OK PackageFile: PLPE_1.70.0.tar.gz PackageFileSize: 264 KiB