Package: PLPE Version: 1.70.0 Command: /Library/Frameworks/R.framework/Resources/bin/R CMD build --keep-empty-dirs --no-resave-data PLPE StartedAt: 2025-11-10 17:22:11 -0500 (Mon, 10 Nov 2025) EndedAt: 2025-11-10 17:22:16 -0500 (Mon, 10 Nov 2025) EllapsedTime: 5.1 seconds RetCode: 0 Status: OK PackageFile: PLPE_1.70.0.tar.gz PackageFileSize: 263 KiB