Package: PLPE Version: 1.70.0 Command: rm -rf PLPE.buildbin-libdir && mkdir PLPE.buildbin-libdir && /Users/biocbuild/BBS/utils/build-universal.sh PLPE_1.70.0.tar.gz /Library/Frameworks/R.framework/Resources/bin/R PLPE.buildbin-libdir StartedAt: 2025-11-10 23:31:18 -0500 (Mon, 10 Nov 2025) EndedAt: 2025-11-10 23:31:20 -0500 (Mon, 10 Nov 2025) EllapsedTime: 2.1 seconds RetCode: 0 Status: OK PackageFile: PLPE_1.70.0.tgz PackageFileSize: 302.7 KiB