Package: PIUMA Version: 1.6.0 Command: /home/biocbuild/R/R/bin/R CMD INSTALL PIUMA StartedAt: 2025-11-13 21:30:26 -0000 (Thu, 13 Nov 2025) EndedAt: 2025-11-13 21:31:05 -0000 (Thu, 13 Nov 2025) EllapsedTime: 38.8 seconds RetCode: 0 Status: OK