Package: PIUMA Version: 1.6.0 Command: /home/biocbuild/R/R/bin/R CMD build --keep-empty-dirs --no-resave-data PIUMA StartedAt: 2025-11-11 04:07:15 -0000 (Tue, 11 Nov 2025) EndedAt: 2025-11-11 04:08:57 -0000 (Tue, 11 Nov 2025) EllapsedTime: 102.0 seconds RetCode: 1 Status: ERROR PackageFile: None PackageFileSize: NA