Package: PIUMA Version: 1.6.0 Command: /home/biocbuild/bbs-3.22-bioc/R/bin/R CMD build --keep-empty-dirs --no-resave-data --md5 PIUMA StartedAt: 2025-11-14 19:24:38 -0500 (Fri, 14 Nov 2025) EndedAt: 2025-11-14 19:26:00 -0500 (Fri, 14 Nov 2025) EllapsedTime: 82.1 seconds RetCode: 1 Status: ERROR PackageFile: None PackageFileSize: NA