Package: PIUMA Version: 1.4.0 Command: /Library/Frameworks/R.framework/Resources/bin/R CMD INSTALL PIUMA StartedAt: 2025-10-02 15:40:43 -0400 (Thu, 02 Oct 2025) EndedAt: 2025-10-02 15:41:44 -0400 (Thu, 02 Oct 2025) EllapsedTime: 60.4 seconds RetCode: 0 Status: OK