Package: PIUMA Version: 1.4.0 Command: /Library/Frameworks/R.framework/Resources/bin/R CMD build --keep-empty-dirs --no-resave-data PIUMA StartedAt: 2025-09-29 21:34:15 -0400 (Mon, 29 Sep 2025) EndedAt: 2025-09-29 21:37:49 -0400 (Mon, 29 Sep 2025) EllapsedTime: 214.6 seconds RetCode: 0 Status: OK PackageFile: PIUMA_1.4.0.tar.gz PackageFileSize: 4.226 MiB