Package: PIUMA Version: 1.4.0 Command: /home/biocbuild/R/R/bin/R CMD INSTALL PIUMA StartedAt: 2025-09-25 20:36:54 -0000 (Thu, 25 Sep 2025) EndedAt: 2025-09-25 20:37:34 -0000 (Thu, 25 Sep 2025) EllapsedTime: 39.5 seconds RetCode: 0 Status: OK