Package: PIUMA Version: 1.4.0 Command: /home/biocbuild/R/R/bin/R CMD build --keep-empty-dirs --no-resave-data PIUMA StartedAt: 2025-09-26 04:52:17 -0000 (Fri, 26 Sep 2025) EndedAt: 2025-09-26 04:54:07 -0000 (Fri, 26 Sep 2025) EllapsedTime: 110.0 seconds RetCode: 1 Status: ERROR PackageFile: None PackageFileSize: NA