Package: PIUMA Version: 1.4.0 Command: /Library/Frameworks/R.framework/Resources/bin/R CMD build --keep-empty-dirs --no-resave-data PIUMA StartedAt: 2025-09-26 06:27:53 -0400 (Fri, 26 Sep 2025) EndedAt: 2025-09-26 06:29:40 -0400 (Fri, 26 Sep 2025) EllapsedTime: 106.6 seconds RetCode: 0 Status: OK PackageFile: PIUMA_1.4.0.tar.gz PackageFileSize: 4.24 MiB