Package: PIPETS Version: 1.6.0 Command: /Library/Frameworks/R.framework/Resources/bin/R CMD INSTALL PIPETS StartedAt: 2025-11-03 15:22:04 -0500 (Mon, 03 Nov 2025) EndedAt: 2025-11-03 15:22:17 -0500 (Mon, 03 Nov 2025) EllapsedTime: 12.9 seconds RetCode: 0 Status: OK