Package: PIPETS Version: 1.6.0 Command: /Library/Frameworks/R.framework/Resources/bin/R CMD build --keep-empty-dirs --no-resave-data PIPETS StartedAt: 2025-11-03 18:15:15 -0500 (Mon, 03 Nov 2025) EndedAt: 2025-11-03 18:15:38 -0500 (Mon, 03 Nov 2025) EllapsedTime: 22.8 seconds RetCode: 0 Status: OK PackageFile: PIPETS_1.6.0.tar.gz PackageFileSize: 2.882 MiB