Package: PIPETS Version: 1.4.0 Command: /home/biocbuild/R/R/bin/R CMD INSTALL PIPETS StartedAt: 2025-10-13 20:37:34 -0000 (Mon, 13 Oct 2025) EndedAt: 2025-10-13 20:37:48 -0000 (Mon, 13 Oct 2025) EllapsedTime: 14.9 seconds RetCode: 0 Status: OK