Package: PIPETS Version: 1.4.0 Command: /home/biocbuild/R/R/bin/R CMD build --keep-empty-dirs --no-resave-data PIPETS StartedAt: 2025-10-14 03:32:44 -0000 (Tue, 14 Oct 2025) EndedAt: 2025-10-14 03:33:10 -0000 (Tue, 14 Oct 2025) EllapsedTime: 26.0 seconds RetCode: 0 Status: OK PackageFile: PIPETS_1.4.0.tar.gz PackageFileSize: 2.948 MiB