Package: PING Version: 2.52.0 Command: /home/biocbuild/R/R/bin/R CMD INSTALL PING StartedAt: 2025-10-13 21:04:31 -0000 (Mon, 13 Oct 2025) EndedAt: 2025-10-13 21:04:33 -0000 (Mon, 13 Oct 2025) EllapsedTime: 1.2 seconds RetCode: 1 Status: ERROR