Package: PING Version: 2.52.0 Command: /home/biocbuild/R/R/bin/R CMD build --keep-empty-dirs --no-resave-data PING StartedAt: 2025-10-14 03:32:37 -0000 (Tue, 14 Oct 2025) EndedAt: 2025-10-14 03:32:39 -0000 (Tue, 14 Oct 2025) EllapsedTime: 2.0 seconds RetCode: 0 Status: OK PackageFile: PING_2.52.0.tar.gz PackageFileSize: 4.51 MiB