Package: PING Version: 2.52.0 Command: rm -rf PING.buildbin-libdir && mkdir PING.buildbin-libdir && /Users/biocbuild/BBS/utils/build-universal.sh PING_2.52.0.tar.gz /Library/Frameworks/R.framework/Resources/bin/R PING.buildbin-libdir StartedAt: 2025-04-21 22:46:21 -0400 (Mon, 21 Apr 2025) EndedAt: 2025-04-21 22:46:22 -0400 (Mon, 21 Apr 2025) EllapsedTime: 1.0 seconds RetCode: 1 Status: ERROR PackageFile: None PackageFileSize: NA