Package: PICS Version: 2.52.0 Command: /Library/Frameworks/R.framework/Resources/bin/R CMD build --keep-empty-dirs --no-resave-data PICS StartedAt: 2025-10-13 21:34:05 -0400 (Mon, 13 Oct 2025) EndedAt: 2025-10-13 21:34:15 -0400 (Mon, 13 Oct 2025) EllapsedTime: 10.4 seconds RetCode: 1 Status: ERROR PackageFile: None PackageFileSize: NA