Package: PICS Version: 2.52.0 Maintainer: Renan Sauteraud MaintainerEmail: renan.sauteraud at gmail.com git_url: https://git.bioconductor.org/packages/PICS git_branch: RELEASE_3_21 git_last_commit: 604d4b8 git_last_commit_date: 2025-04-15 09:59:21 -0400 (Tue, 15 Apr 2025)