Package: PICB Version: 1.2.0 Command: /home/biocbuild/R/R/bin/R CMD INSTALL PICB StartedAt: 2025-11-13 21:35:38 -0000 (Thu, 13 Nov 2025) EndedAt: 2025-11-13 21:35:43 -0000 (Thu, 13 Nov 2025) EllapsedTime: 4.5 seconds RetCode: 0 Status: OK