Package: PICB Version: 1.0.0 Command: /home/biocbuild/bbs-3.21-bioc/R/bin/R CMD INSTALL PICB StartedAt: 2025-10-12 15:26:59 -0400 (Sun, 12 Oct 2025) EndedAt: 2025-10-12 15:27:02 -0400 (Sun, 12 Oct 2025) EllapsedTime: 2.3 seconds RetCode: 0 Status: OK