Package: PICB Version: 1.0.0 Command: /home/biocbuild/bbs-3.21-bioc/R/bin/R CMD build --keep-empty-dirs --no-resave-data PICB StartedAt: 2025-10-12 19:11:37 -0400 (Sun, 12 Oct 2025) EndedAt: 2025-10-12 19:13:08 -0400 (Sun, 12 Oct 2025) EllapsedTime: 91.1 seconds RetCode: 0 Status: OK PackageFile: PICB_1.0.0.tar.gz PackageFileSize: 4.674 MiB