Package: PICB Version: 1.0.0 Command: rm -rf PICB.buildbin-libdir && mkdir PICB.buildbin-libdir && /Users/biocbuild/BBS/utils/build-universal.sh PICB_1.0.0.tar.gz /Library/Frameworks/R.framework/Resources/bin/R PICB.buildbin-libdir StartedAt: 2025-04-22 01:00:22 -0400 (Tue, 22 Apr 2025) EndedAt: 2025-04-22 01:00:29 -0400 (Tue, 22 Apr 2025) EllapsedTime: 6.8 seconds RetCode: 0 Status: OK PackageFile: PICB_1.0.0.tgz PackageFileSize: 4.69 MiB