Package: PICB Version: 1.0.0 Command: /Library/Frameworks/R.framework/Resources/bin/R CMD build --keep-empty-dirs --no-resave-data PICB StartedAt: 2025-10-10 06:55:29 -0400 (Fri, 10 Oct 2025) EndedAt: 2025-10-10 06:57:35 -0400 (Fri, 10 Oct 2025) EllapsedTime: 126.6 seconds RetCode: 0 Status: OK PackageFile: PICB_1.0.0.tar.gz PackageFileSize: 4.678 MiB