Package: PECA Version: 1.46.0 Command: /home/biocbuild/bbs-3.22-bioc/R/bin/R CMD build --keep-empty-dirs --no-resave-data --md5 PECA StartedAt: 2025-11-11 19:22:10 -0500 (Tue, 11 Nov 2025) EndedAt: 2025-11-11 19:22:48 -0500 (Tue, 11 Nov 2025) EllapsedTime: 38.0 seconds RetCode: 0 Status: OK PackageFile: PECA_1.46.0.tar.gz PackageFileSize: 215 KiB