Package: PECA Version: 1.44.0 Command: /home/biocbuild/R/R/bin/R CMD build --keep-empty-dirs --no-resave-data PECA StartedAt: 2025-10-14 03:28:03 -0000 (Tue, 14 Oct 2025) EndedAt: 2025-10-14 03:28:55 -0000 (Tue, 14 Oct 2025) EllapsedTime: 52.1 seconds RetCode: 0 Status: OK PackageFile: PECA_1.44.0.tar.gz PackageFileSize: 209.6 KiB